BEGIN:VCALENDAR
VERSION:2.0
PRODID:-//Stadtgeschichte München//DE
CALSCALE:GREGORIAN
BEGIN:VEVENT
UID:12575@stadtgeschichte-muenchen.de
SUMMARY:Quartiersentwicklung – rund um den Ratzingerplatz
DESCRIPTION:&lt;p&gt;Am Ratzingerplatz in Obersendling entsteht in den nächsten Jahren ein modernes Quartierszentrum mit Einzelhandel, Büros, Wohnungen, Grünflächen und Schulen. Bei der Führung werden die Planungen erläutert sowie das ehemalige Siemens-Gelände (Campus Süd - Rapp und Rapp Architekten, Sanierung Siemens-Hochhaus - Meili Peter Architekten, Wohnhochhaus an der Baierbrunner Straße - Hierl Architekten) vorgestellt. Weitere Stationen sind das Gewerbegebiet Kistlerhof, die Kistlerhof Gärten (prpm Architekten) und die P+R-Anlage. Ende der Tour: Bäckerei Aumüller, Kistlerhofstraße 70.&lt;/p&gt; &lt;p&gt;Zur Teilnahme melden Sie sich bitte verbindlich an:&amp;nbsp;&lt;a href=&quot;mailto:plantreff@muenchen.de&quot;&gt;plantreff@muenchen.de&lt;/a&gt;&amp;nbsp;oder telefonisch unter 233-22942 (maximale Teilnehmerzahl pro Tour: 30 Personen)&lt;/p&gt; 
DTSTART:20170119T150000
DTEND:20170119T000000
LOCATION:U-Bahnstation „Aidenbachstraße“ (U3), Bahnsteigmitte
ORGANIZER:Rathausgalerie | Kunsthalle
END:VEVENT
END:VCALENDAR