BEGIN:VCALENDAR
VERSION:2.0
PRODID:-//Stadtgeschichte München//DE
CALSCALE:GREGORIAN
BEGIN:VEVENT
UID:12441@stadtgeschichte-muenchen.de
SUMMARY:Kimm ins KiM
DESCRIPTION:In Planung 
DTSTART:20170319T110000
DTEND:20170319T133000
LOCATION:KiM-Kino im Einstein Kultur, Einsteinstraße 42 * München-Haidhausen (neben Unionsbräu)
ORGANIZER:Münchner Zeitensprünge
END:VEVENT
END:VCALENDAR