BEGIN:VCALENDAR
VERSION:2.0
PRODID:-//Stadtgeschichte München//DE
CALSCALE:GREGORIAN
BEGIN:VEVENT
UID:12371@stadtgeschichte-muenchen.de
SUMMARY:Die Weiße Rose: Was bedeutet Widerstand?
DESCRIPTION:
DTSTART:20161212T180000
DTEND:20161212T000000
LOCATION:Gasteig EG Raum 0115
ORGANIZER:Gasteig
END:VEVENT
END:VCALENDAR