BEGIN:VCALENDAR
VERSION:2.0
PRODID:-//Stadtgeschichte München//DE
CALSCALE:GREGORIAN
BEGIN:VEVENT
UID:1233@stadtgeschichte-muenchen.de
SUMMARY:Die Bibliothek der Monacensia
DESCRIPTION:&lt;p&gt;Diese Spezialbibliothek sammelt ausschlie&amp;szlig;lich B&amp;uuml;cher, Zeitschriften und andere Medien zum Thema M&amp;uuml;nchen. Seit 1921 als selbstst&amp;auml;ndige Abteilung der M&amp;uuml;nchner Stadtbibliothek gef&amp;uuml;hrt, ist sie heute im ehemaligen Wohn- und Atelierhaus des M&amp;uuml;nchner Bildhauers Adolf von Hildebrand untergebracht. Bei dieser F&amp;uuml;hrung k&amp;ouml;nnen Sie die Tradition des Hauses und ausgew&amp;auml;hlte Flugschriften, Erstausgaben, Theaterprogramme, Zeitungen und Einladungskarten (z. B. zu Altm&amp;uuml;nchner K&amp;uuml;nstlerfesten) aus dem Bestand von ca. 135 000 B&amp;auml;nden kennen lernen.&lt;/p&gt;
DTSTART:20111201T170000
DTEND:20111201T183000
LOCATION:Monacensia, Haupteingang Â· Maria- Theresia-Str. 23
ORGANIZER:MVHS München Mitte   
END:VEVENT
END:VCALENDAR