BEGIN:VCALENDAR
VERSION:2.0
PRODID:-//Stadtgeschichte München//DE
CALSCALE:GREGORIAN
BEGIN:VEVENT
UID:12250@stadtgeschichte-muenchen.de
SUMMARY:Der Alte Hof und die Alte Münze
DESCRIPTION:&lt;p&gt;Der Alte Hof war die erste Stadtresidenz der Wittelsbacher. Er ist durch einen Torbogen mit der Alten Münze verbunden, die einst als herzogliche Kunstkammer und Münze diente . Sie unternehmen eine Zeitreise in die frühe Geschichte der Wittel sbacher. Dann werfen Sie mit Dr. Walter lrlinger einen Blick in die Restaurierungswerkstätten des Bayerischen Landesamts für Denkmalpflege, das seinen Sitz in dem historischen Gebäude mit dem berühmten Innenhof hat. Er berichtet von den Aufgaben des Landesamts und stellt verschiedene Arbeitsbereiche vor.&lt;/p&gt; 
DTSTART:20161212T154500
DTEND:20161212T181500
LOCATION:Landesamt für Denkmalpflege · Hofgraben 4
ORGANIZER:MVHS München Mitte   
END:VEVENT
END:VCALENDAR