BEGIN:VCALENDAR
VERSION:2.0
PRODID:-//Stadtgeschichte München//DE
CALSCALE:GREGORIAN
BEGIN:VEVENT
UID:10166@stadtgeschichte-muenchen.de
SUMMARY:Wohnprojekte für Frauen ‐ FrauenWohnen eG
DESCRIPTION:FrauenWohneneG ist eine Vermietgenossenschaft von Frauen. Sie hat zum Ziel, Wohnraum für Frauen zu schaffen und zu erhalten, der auf lange Sicht bezahlbar bleiben soll. Die bisherigenWohnprojekte der Genossenschaft sowie das aktuellste auf dem Domagkgelände sind gemeinschaftsorientiert, frauengerecht, ökologisch sinnvoll, barrierefrei und autoreduziert geplant. Bei der Informationsveranstaltung werden die weiteren Perspektiven dieser besonderen Wohnform für Frauen vorgestellt.&nbsp;
DTSTART:20141126T180000
DTEND:20141126T193000
LOCATION:Volkshochschule Troppauer Str. 10
ORGANIZER:MVHS München Nord
END:VEVENT
END:VCALENDAR