BEGIN:VCALENDAR
VERSION:2.0
PRODID:-//Stadtgeschichte München//DE
CALSCALE:GREGORIAN
BEGIN:VEVENT
UID:1016@stadtgeschichte-muenchen.de
SUMMARY:Ein virtueller Rundgang durch das München im 16. und 19. Jahrhundert
DESCRIPTION:&lt;p&gt;Herzog Albrecht V. konnte von seiner Residenz aus, bei jeder Witterung, seine gotische Stadt M&amp;uuml;nchen besichtigen. 1570 baute der Drexlermei-ster Jacob Sandtner sein ber&amp;uuml;hmtes Stadtmodell im Ma&amp;szlig;stab 1:616 aus millimeterd&amp;uuml;nnen Lindenholzpl&amp;auml;ttchen. Johann Baptist Seitz unterbreitete K&amp;ouml;nig Ludwig l. im Februar 1839 den Vorschlag, ein neues Stadtmodell herzustellen, ankn&amp;uuml;pfend an das &amp;bdquo;Sandtnerische Modell&amp;quot;. Beide Stadtmodelle haben &amp;bdquo;ihre&amp;quot; Entstehungsgeschichte und sind im Nationalmuseum zu besichtigen. Interessant dabei ist auch die Lebensgeschichte von Johann Baptist Seitz.&lt;br /&gt; F&amp;uuml;r uns ergibt sich dadurch die Gelegenheit noch einmal &amp;bdquo;virtuell&amp;quot; einen Spaziergang durch M&amp;uuml;nchen im 16. und 19. Jahrhundert zu unternehmen und dabei nicht nur Stra&amp;szlig;enz&amp;uuml;ge und H&amp;auml;user zu entdecken, die es so l&amp;auml;ngst nicht mehr gibt, sondern auch das Leben in M&amp;uuml;nchen in diesen beiden Jahrhunderten unmittelbar miteinander zu vergleichen.&lt;/p&gt; &lt;p&gt;&amp;nbsp;&lt;/p&gt;
DTSTART:20120226T140000
DTEND:20120226T160000
LOCATION:Nationalmuseum, Eingang Prinzregentenstr. 3
ORGANIZER:DGB-Bildungswerk Bayern e.V. Region München
END:VEVENT
END:VCALENDAR